BEGIN:VCALENDAR
VERSION:2.0
PRODID:-//hacksw/handcal//NONSGML v1.0//EN
CALSCALE:GREGORIAN
BEGIN:VEVENT
UID:69e5bae0203ca
DTSTART:20230625T203000Z
DTSTAMP:20260420T053424Z
DTEND:20230626T203000Z
LOCATION:Tokyo
DESCRIPTION:Nano Tenchnology Event
URL;VALUE=URI:https://nanosummit.conferenceseries.com/
SUMMARY:40th Global Summit on Nano science and Technology
END:VEVENT
END:VCALENDAR
