BEGIN:VCALENDAR
VERSION:2.0
PRODID:-//hacksw/handcal//NONSGML v1.0//EN
CALSCALE:GREGORIAN
BEGIN:VEVENT
UID:69e5baf8c491d
DTSTART:20230416T203000Z
DTSTAMP:20260420T053448Z
DTEND:20230417T203000Z
LOCATION:Paris
DESCRIPTION:Nano Tenchnology Event
URL;VALUE=URI:https://nanochemistry.conferenceseries.com/
SUMMARY:3rd International Conference on Nanotechnology & Chemistry
END:VEVENT
END:VCALENDAR
