BEGIN:VCALENDAR
VERSION:2.0
PRODID:-//hacksw/handcal//NONSGML v1.0//EN
CALSCALE:GREGORIAN
BEGIN:VEVENT
UID:69e5baf94c8eb
DTSTART:20230416T203000Z
DTSTAMP:20260420T053449Z
DTEND:20230417T203000Z
LOCATION:Paris
DESCRIPTION:Nano Tenchnology Event
URL;VALUE=URI:https://nanocongress.nanotechconferences.org/
SUMMARY:35th Nano Congress for Future Advancements
END:VEVENT
END:VCALENDAR
