BEGIN:VCALENDAR
VERSION:2.0
PRODID:-//hacksw/handcal//NONSGML v1.0//EN
CALSCALE:GREGORIAN
BEGIN:VEVENT
UID:69e5cf0b9de28
DTSTART:20230219T203000Z
DTSTAMP:20260420T070027Z
DTEND:20230220T203000Z
LOCATION:Paris
DESCRIPTION:Nano Tenchnology Event
URL;VALUE=URI:https://nanotechnologyexpo.conferenceseries.com/
SUMMARY:Worldwide congress on Nanotechnology and Materials Engineerin
 ng
END:VEVENT
END:VCALENDAR
