BEGIN:VCALENDAR
VERSION:2.0
PRODID:-//hacksw/handcal//NONSGML v1.0//EN
CALSCALE:GREGORIAN
BEGIN:VEVENT
UID:69e5cf0b7f297
DTSTART:20230214T203000Z
DTSTAMP:20260420T070027Z
DTEND:20230215T203000Z
LOCATION:London
DESCRIPTION:Nano Tenchnology Event
URL;VALUE=URI:https://nanomaterials.insightconferences.com/
SUMMARY:36th International Conference on Nanomaterials and Nanotechno
 ology
END:VEVENT
END:VCALENDAR
