BEGIN:VCALENDAR
VERSION:2.0
PRODID:-//hacksw/handcal//NONSGML v1.0//EN
CALSCALE:GREGORIAN
BEGIN:VEVENT
UID:69e5cf7ed4206
DTSTART:20230117T203000Z
DTSTAMP:20260420T070222Z
DTEND:20230118T203000Z
LOCATION:Vancouver
DESCRIPTION:Nano Tenchnology Event
URL;VALUE=URI:https://nanoscience.annualcongress.com/
SUMMARY:Global Summit on Nanoscience and Technology (Euro Nanomat- 20
 023)
END:VEVENT
END:VCALENDAR
