BEGIN:VCALENDAR
VERSION:2.0
PRODID:-//hacksw/handcal//NONSGML v1.0//EN
CALSCALE:GREGORIAN
BEGIN:VEVENT
UID:69e5cf18a8d32
DTSTART:20220922T203000Z
DTSTAMP:20260420T070040Z
DTEND:20220923T203000Z
LOCATION:Vancouver
DESCRIPTION:Nano Tenchnology Event
URL;VALUE=URI:https://biomarkers.conferenceseries.com/
SUMMARY:17th World Congress on Biomarkers\, Cancer Therapy & Clinical
 l Research
END:VEVENT
END:VCALENDAR
