BEGIN:VCALENDAR
VERSION:2.0
PRODID:-//hacksw/handcal//NONSGML v1.0//EN
CALSCALE:GREGORIAN
BEGIN:VEVENT
UID:69e5cf79ca32b
DTSTART:20221130T203000Z
DTSTAMP:20260420T070217Z
DTEND:20221201T203000Z
LOCATION:Online
DESCRIPTION:Nano Tenchnology Event
URL;VALUE=URI:https://globalcancer.conferenceseries.com/
SUMMARY:6th Global Summit on Cancer
END:VEVENT
END:VCALENDAR
