BEGIN:VCALENDAR
VERSION:2.0
PRODID:-//hacksw/handcal//NONSGML v1.0//EN
CALSCALE:GREGORIAN
BEGIN:VEVENT
UID:69e5bafd4ef0b
DTSTART:20230416T203000Z
DTSTAMP:20260420T053453Z
DTEND:20230417T203000Z
LOCATION:Paris
DESCRIPTION:Nano Tenchnology Event
URL;VALUE=URI:https://cancermeeting.global-summit.com/
SUMMARY:2nd Experts Meeting on Cancer Medicine\, Radiology & Treatmen
 nt
END:VEVENT
END:VCALENDAR
