BEGIN:VCALENDAR
VERSION:2.0
PRODID:-//hacksw/handcal//NONSGML v1.0//EN
CALSCALE:GREGORIAN
BEGIN:VEVENT
UID:69e5bab8af72a
DTSTART:20230326T203000Z
DTSTAMP:20260420T053344Z
DTEND:20230327T203000Z
LOCATION:London
DESCRIPTION:Nano Tenchnology Event
URL;VALUE=URI:https://oncology.cancersummit.org/
SUMMARY:4th Global Summit on Oncology and Hematology
END:VEVENT
END:VCALENDAR
