BEGIN:VCALENDAR
VERSION:2.0
PRODID:-//hacksw/handcal//NONSGML v1.0//EN
CALSCALE:GREGORIAN
BEGIN:VEVENT
UID:69e5cf10ad213
DTSTART:20221130T203000Z
DTSTAMP:20260420T070032Z
DTEND:20221201T203000Z
LOCATION:Online
DESCRIPTION:Nano Tenchnology Event
URL;VALUE=URI:https://cancerresearch.global-summit.com/
SUMMARY:6th World Congress on Frontiers in Cancer Research and Therap
 py
END:VEVENT
END:VCALENDAR
