BEGIN:VCALENDAR
VERSION:2.0
PRODID:-//hacksw/handcal//NONSGML v1.0//EN
CALSCALE:GREGORIAN
BEGIN:VEVENT
UID:69e5cf12331a8
DTSTART:20221113T203000Z
DTSTAMP:20260420T070034Z
DTEND:20221114T203000Z
LOCATION:Vancouver
DESCRIPTION:Nano Tenchnology Event
URL;VALUE=URI:https://emergingmaterials.materialsconferences.com/
SUMMARY:20th International Conference on Emerging Materials and Nanot
 technology
END:VEVENT
END:VCALENDAR
