BEGIN:VCALENDAR
VERSION:2.0
PRODID:-//hacksw/handcal//NONSGML v1.0//EN
CALSCALE:GREGORIAN
BEGIN:VEVENT
UID:69e5bab935c86
DTSTART:20231105T203000Z
DTSTAMP:20260420T053345Z
DTEND:20231106T203000Z
LOCATION:London
DESCRIPTION:Nano Tenchnology Event
URL;VALUE=URI:https://europe.materialsconferences.com/
SUMMARY:28th International Conference on  Advanced Materials & Nanote
 echnology
END:VEVENT
END:VCALENDAR
