BEGIN:VCALENDAR
VERSION:2.0
PRODID:-//hacksw/handcal//NONSGML v1.0//EN
CALSCALE:GREGORIAN
BEGIN:VEVENT
UID:69e5bb36d0891
DTSTART:20230704T203000Z
DTSTAMP:20260420T053550Z
DTEND:20230705T203000Z
LOCATION:Paris
DESCRIPTION:Nano Tenchnology Event
URL;VALUE=URI:https://nanotechnology.nanotechconferences.org/
SUMMARY:40th Global Nanotechnology Congress
END:VEVENT
END:VCALENDAR
