BEGIN:VCALENDAR
VERSION:2.0
PRODID:-//hacksw/handcal//NONSGML v1.0//EN
CALSCALE:GREGORIAN
BEGIN:VEVENT
UID:69e5cf1043a3d
DTSTART:20230117T203000Z
DTSTAMP:20260420T070032Z
DTEND:20230118T203000Z
LOCATION:Online
DESCRIPTION:Nano Tenchnology Event
URL;VALUE=URI:https://aerospace.conferenceseries.com/
SUMMARY:3rd World Conference on Aerospace Engineering
END:VEVENT
END:VCALENDAR
