BEGIN:VCALENDAR
VERSION:2.0
PRODID:-//hacksw/handcal//NONSGML v1.0//EN
CALSCALE:GREGORIAN
BEGIN:VEVENT
UID:69e5bafd375e7
DTSTART:20230604T203000Z
DTSTAMP:20260420T053453Z
DTEND:20230605T203000Z
LOCATION:Madrid
DESCRIPTION:Nano Tenchnology Event
URL;VALUE=URI:https://nanotechnology.conferenceseries.com/
SUMMARY:35th International Conference and Expo on Nanosciences and Na
 anotechnology
END:VEVENT
END:VCALENDAR
