BEGIN:VCALENDAR
VERSION:2.0
PRODID:-//hacksw/handcal//NONSGML v1.0//EN
CALSCALE:GREGORIAN
BEGIN:VEVENT
UID:69e5baf849e22
DTSTART:20231015T203000Z
DTSTAMP:20260420T053448Z
DTEND:20231016T203000Z
LOCATION:Vancouver
DESCRIPTION:Nano Tenchnology Event
URL;VALUE=URI:https://nano.expertconferences.org/
SUMMARY:34th World Nano Conference
END:VEVENT
END:VCALENDAR
