BEGIN:VCALENDAR
VERSION:2.0
PRODID:-//hacksw/handcal//NONSGML v1.0//EN
CALSCALE:GREGORIAN
BEGIN:VEVENT
UID:69e7c27c8ef90
DTSTART:20230630T203000Z
DTSTAMP:20260421T183124Z
DTEND:20230707T203000Z
LOCATION:Thessaloniki
DESCRIPTION:Nano Tenchnology Event
URL;VALUE=URI:https://www.nanotexnology.com/index.php/homepage/progra
 am-overview/overview
SUMMARY:International Conference &amp\; Exhibition on Nanotechnologie
 es\, Organic Electronics &amp\; Nanomedicine (NANOTEXNOLOGY 2023)
END:VEVENT
END:VCALENDAR
