BEGIN:VCALENDAR
VERSION:2.0
PRODID:-//hacksw/handcal//NONSGML v1.0//EN
CALSCALE:GREGORIAN
BEGIN:VEVENT
UID:69e7c29856825
DTSTART:20230703T203000Z
DTSTAMP:20260421T183152Z
DTEND:20230706T203000Z
LOCATION:Thessaloniki
DESCRIPTION:Nano Tenchnology Event
URL;VALUE=URI:https://www.nanotexnology.com/index.php/nn23-program
SUMMARY:International Conference on Nanosciences &amp\; Nanotechnolog
 gies (NN23)
END:VEVENT
END:VCALENDAR
