BEGIN:VCALENDAR
VERSION:2.0
PRODID:-//hacksw/handcal//NONSGML v1.0//EN
CALSCALE:GREGORIAN
BEGIN:VEVENT
UID:69e7c27052aac
DTSTART:20230702T203000Z
DTSTAMP:20260421T183112Z
DTEND:20230705T203000Z
LOCATION:Thessaloniki
DESCRIPTION:Nano Tenchnology Event
URL;VALUE=URI:https://www.nanotexnology.com/index.php/isfoe
SUMMARY:International Symposium on Flexible Organic Electronics (ISFO
 OE23)
END:VEVENT
END:VCALENDAR
