BEGIN:VCALENDAR
VERSION:2.0
PRODID:-//hacksw/handcal//NONSGML v1.0//EN
CALSCALE:GREGORIAN
BEGIN:VEVENT
UID:69e7c270cc54f
DTSTART:20230704T203000Z
DTSTAMP:20260421T183112Z
DTEND:20230705T203000Z
LOCATION:Thessaloniki
DESCRIPTION:Nano Tenchnology Event
URL;VALUE=URI:https://www.nanotexnology.com/index.php/i3d
SUMMARY:International Conference on 3D Printing\, 3D Bioprinting\, Di
 igital &amp\; Additive Manufacturing (I3D23)
END:VEVENT
END:VCALENDAR
