BEGIN:VCALENDAR
VERSION:2.0
PRODID:-//hacksw/handcal//NONSGML v1.0//EN
CALSCALE:GREGORIAN
BEGIN:VEVENT
UID:69e7c27b795bc
DTSTART:20230630T203000Z
DTSTAMP:20260421T183123Z
DTEND:20230707T203000Z
LOCATION:Thessaloniki
DESCRIPTION:Nano Tenchnology Event
URL;VALUE=URI:https://www.nanotexnology.com/index.php/isson
SUMMARY:International Summer Schools "N&amp\;N\, OE &amp\; Nanomedici
 ine" (ISSON23)
END:VEVENT
END:VCALENDAR
