BEGIN:VCALENDAR
VERSION:2.0
PRODID:-//hacksw/handcal//NONSGML v1.0//EN
CALSCALE:GREGORIAN
BEGIN:VEVENT
UID:69e7c27c142b8
DTSTART:20230702T203000Z
DTSTAMP:20260421T183124Z
DTEND:20230706T203000Z
LOCATION:Thessaloniki
DESCRIPTION:Nano Tenchnology Event
URL;VALUE=URI:https://www.nanotexnology.com/index.php/expo
SUMMARY:13th NANOTEXNOLOGY Expo 2023
END:VEVENT
END:VCALENDAR
