BEGIN:VCALENDAR
VERSION:2.0
PRODID:-//hacksw/handcal//NONSGML v1.0//EN
CALSCALE:GREGORIAN
BEGIN:VEVENT
UID:69e5bb19b6393
DTSTART:20231105T203000Z
DTSTAMP:20260420T053521Z
DTEND:20231106T203000Z
LOCATION:London
DESCRIPTION:Nano Tenchnology Event
URL;VALUE=URI:https://nanoexpo.conferenceseries.com/
SUMMARY:37th International Conference on  Nanotechnology & Expo
END:VEVENT
END:VCALENDAR
