BEGIN:VCALENDAR
VERSION:2.0
PRODID:-//hacksw/handcal//NONSGML v1.0//EN
CALSCALE:GREGORIAN
BEGIN:VEVENT
UID:69e5bab7af0e2
DTSTART:20230813T203000Z
DTSTAMP:20260420T053343Z
DTEND:20230814T203000Z
LOCATION:Dublin
DESCRIPTION:Nano Tenchnology Event
URL;VALUE=URI:https://nanotechnologycongress.conferenceseries.com/
SUMMARY:26th World Nanotechnology Congress
END:VEVENT
END:VCALENDAR
