BEGIN:VCALENDAR
VERSION:2.0
PRODID:-//hacksw/handcal//NONSGML v1.0//EN
CALSCALE:GREGORIAN
BEGIN:VEVENT
UID:69e5bae0ac632
DTSTART:20230827T203000Z
DTSTAMP:20260420T053424Z
DTEND:20230828T203000Z
LOCATION:London
DESCRIPTION:Nano Tenchnology Event
URL;VALUE=URI:https://polymerscience.annualcongress.com/
SUMMARY:9th Edition of International Conference on  Polymer Science a
 and Technology
END:VEVENT
END:VCALENDAR
