BEGIN:VCALENDAR
VERSION:2.0
PRODID:-//hacksw/handcal//NONSGML v1.0//EN
CALSCALE:GREGORIAN
BEGIN:VEVENT
UID:69e5bae132934
DTSTART:20230829T203000Z
DTSTAMP:20260420T053425Z
DTEND:20230830T203000Z
LOCATION:Toronto
DESCRIPTION:Nano Tenchnology Event
URL;VALUE=URI:https://advancedmaterials.materialsconferences.com/
SUMMARY:4th International Conference on  Advanced Materials and Susta
 ainable Development
END:VEVENT
END:VCALENDAR
