BEGIN:VCALENDAR
VERSION:2.0
PRODID:-//hacksw/handcal//NONSGML v1.0//EN
CALSCALE:GREGORIAN
BEGIN:VEVENT
UID:69e5bab835384
DTSTART:20230809T203000Z
DTSTAMP:20260420T053344Z
DTEND:20230810T203000Z
LOCATION:Philadelphia
DESCRIPTION:Nano Tenchnology Event
URL;VALUE=URI:https://pharmacy.pharmaceuticalconferences.com/
SUMMARY:15th International Conference on  Pharmaceutical Education an
 nd Practice
END:VEVENT
END:VCALENDAR
