BEGIN:VCALENDAR
VERSION:2.0
PRODID:-//hacksw/handcal//NONSGML v1.0//EN
CALSCALE:GREGORIAN
BEGIN:VEVENT
UID:69e5badf81159
DTSTART:20230822T203000Z
DTSTAMP:20260420T053423Z
DTEND:20230823T203000Z
LOCATION:Toronto
DESCRIPTION:Nano Tenchnology Event
URL;VALUE=URI:https://drugdeliverysummit.pharmaceuticalconferences.co
 om/
SUMMARY:40th International Conference on  Drug Discovery and Drug del
 livery system
END:VEVENT
END:VCALENDAR
