BEGIN:VCALENDAR
VERSION:2.0
PRODID:-//hacksw/handcal//NONSGML v1.0//EN
CALSCALE:GREGORIAN
BEGIN:VEVENT
UID:69e5bab77f1cf
DTSTART:20230823T203000Z
DTSTAMP:20260420T053343Z
DTEND:20230824T203000Z
LOCATION:Rome
DESCRIPTION:Nano Tenchnology Event
URL;VALUE=URI:https://bioasia.pharmaceuticalconferences.com/#homeCaro
 ousel
SUMMARY:20th Annual Meet on  Pharmaceutical Sciences
END:VEVENT
END:VCALENDAR
