BEGIN:VCALENDAR
VERSION:2.0
PRODID:-//hacksw/handcal//NONSGML v1.0//EN
CALSCALE:GREGORIAN
BEGIN:VEVENT
UID:69e5bae03d275
DTSTART:20230827T203000Z
DTSTAMP:20260420T053424Z
DTEND:20230828T203000Z
LOCATION:Online
DESCRIPTION:Nano Tenchnology Event
URL;VALUE=URI:https://medicine.pharmaceuticalconferences.com/
SUMMARY:22nd International Pharmaceutical Sciences & Life Saving Drug
 gs
END:VEVENT
END:VCALENDAR
