BEGIN:VCALENDAR
VERSION:2.0
PRODID:-//hacksw/handcal//NONSGML v1.0//EN
CALSCALE:GREGORIAN
BEGIN:VEVENT
UID:69e5bae00368d
DTSTART:20231126T203000Z
DTSTAMP:20260420T053424Z
DTEND:20231127T203000Z
LOCATION:Vancouver
DESCRIPTION:Nano Tenchnology Event
URL;VALUE=URI:https://pharma.pharmaceuticalconferences.com/
SUMMARY:3rd World Congress on  Advanced Materials and Nanotechnology
END:VEVENT
END:VCALENDAR
