BEGIN:VCALENDAR
VERSION:2.0
PRODID:-//hacksw/handcal//NONSGML v1.0//EN
CALSCALE:GREGORIAN
BEGIN:VEVENT
UID:69e5bafe4f43e
DTSTART:20230829T203000Z
DTSTAMP:20260420T053454Z
DTEND:20230830T203000Z
LOCATION:Dublin
DESCRIPTION:Nano Tenchnology Event
URL;VALUE=URI:https://drugsafety.pharmaceuticalconferences.com/
SUMMARY:16th International Conference on  Pharmaceutics and Drug Safe
 ety
END:VEVENT
END:VCALENDAR
