BEGIN:VCALENDAR
VERSION:2.0
PRODID:-//hacksw/handcal//NONSGML v1.0//EN
CALSCALE:GREGORIAN
BEGIN:VEVENT
UID:69e8b27a390a1
DTSTART:20230826T203000Z
DTSTAMP:20260422T113522Z
DTEND:20230828T203000Z
LOCATION:İzmir
DESCRIPTION:Nano Tenchnology Event
URL;VALUE=URI:https://nanotr.org/en/
SUMMARY:17th International Nanoscience and Nanotechnology Conference
END:VEVENT
END:VCALENDAR
