BEGIN:VCALENDAR
VERSION:2.0
PRODID:-//hacksw/handcal//NONSGML v1.0//EN
CALSCALE:GREGORIAN
BEGIN:VEVENT
UID:69e5baf7d7396
DTSTART:20230926T203000Z
DTSTAMP:20260420T053447Z
DTEND:20230927T203000Z
LOCATION:Amsterdam
DESCRIPTION:Nano Tenchnology Event
URL;VALUE=URI:https://futurepharmameetings.pharmaceuticalconferences.
 .com/
SUMMARY:8th International Conference on  Future Pharma and Innovation
 ns
END:VEVENT
END:VCALENDAR
