BEGIN:VCALENDAR
VERSION:2.0
PRODID:-//hacksw/handcal//NONSGML v1.0//EN
CALSCALE:GREGORIAN
BEGIN:VEVENT
UID:69e5bb193b703
DTSTART:20230926T203000Z
DTSTAMP:20260420T053521Z
DTEND:20230927T203000Z
LOCATION:Barcelona
DESCRIPTION:Nano Tenchnology Event
URL;VALUE=URI:https://materials-nanotechnology.materialsconferences.c
 com/
SUMMARY:80th International Conference on Nanotechnology & Material Sc
 ciences
END:VEVENT
END:VCALENDAR
