BEGIN:VCALENDAR
VERSION:2.0
PRODID:-//hacksw/handcal//NONSGML v1.0//EN
CALSCALE:GREGORIAN
BEGIN:VEVENT
UID:69e5bb38592aa
DTSTART:20231122T203000Z
DTSTAMP:20260420T053552Z
DTEND:20231123T203000Z
LOCATION:Prague
DESCRIPTION:Nano Tenchnology Event
URL;VALUE=URI:https://advanced-materials.materialsconferences.com/
SUMMARY:10th International Conference on Advanced Materials and Nano 
  Science
END:VEVENT
END:VCALENDAR
