BEGIN:VCALENDAR
VERSION:2.0
PRODID:-//hacksw/handcal//NONSGML v1.0//EN
CALSCALE:GREGORIAN
BEGIN:VEVENT
UID:69e5bb18b4cac
DTSTART:20240214T203000Z
DTSTAMP:20260420T053520Z
DTEND:20240215T203000Z
LOCATION:rome
DESCRIPTION:Nano Tenchnology Event
URL;VALUE=URI:https://nanomaterials.insightconferences.com/
SUMMARY:37th International Conference on  Nanomaterials and Nanotechn
 nology
END:VEVENT
END:VCALENDAR
