BEGIN:VCALENDAR
VERSION:2.0
PRODID:-//hacksw/handcal//NONSGML v1.0//EN
CALSCALE:GREGORIAN
BEGIN:VEVENT
UID:69e5bb179de71
DTSTART:20240214T203000Z
DTSTAMP:20260420T053519Z
DTEND:20240215T203000Z
LOCATION:Rome
DESCRIPTION:Nano Tenchnology Event
URL;VALUE=URI:https://materialsscience.insightconferences.com/
SUMMARY:25th World Congress on  Materials Science and Engineering
END:VEVENT
END:VCALENDAR
