BEGIN:VCALENDAR
VERSION:2.0
PRODID:-//hacksw/handcal//NONSGML v1.0//EN
CALSCALE:GREGORIAN
BEGIN:VEVENT
UID:69e5a4bb9caa4
DTSTART:20240414T203000Z
DTSTAMP:20260420T035955Z
DTEND:20240415T203000Z
LOCATION:Tokyo
DESCRIPTION:Nano Tenchnology Event
URL;VALUE=URI:https://european.materialsconferences.com/
SUMMARY:7th European Meeting on Materials Science and Nanotechnology
END:VEVENT
END:VCALENDAR
