BEGIN:VCALENDAR
VERSION:2.0
PRODID:-//hacksw/handcal//NONSGML v1.0//EN
CALSCALE:GREGORIAN
BEGIN:VEVENT
UID:69e5bafccaf2d
DTSTART:20240306T203000Z
DTSTAMP:20260420T053452Z
DTEND:20240307T203000Z
LOCATION:Toronto
DESCRIPTION:Nano Tenchnology Event
URL;VALUE=URI:https://nanomedicine.pharmaceuticalconferences.com/usa/
SUMMARY:6th International Conference and Exhibition on Pharmaceutical
 l Nanotechnology and Nanomedicine (Nano Pharmaceuticals 2024)
END:VEVENT
END:VCALENDAR
