BEGIN:VCALENDAR
VERSION:2.0
PRODID:-//hacksw/handcal//NONSGML v1.0//EN
CALSCALE:GREGORIAN
BEGIN:VEVENT
UID:69e5baf7e94ec
DTSTART:20240403T203000Z
DTSTAMP:20260420T053447Z
DTEND:20240404T203000Z
LOCATION:Madrid
DESCRIPTION:Nano Tenchnology Event
URL;VALUE=URI:https://nanomedicine.nanotechconferences.org/
SUMMARY:7th International Conference on  Nanomedicine and Nanotechnol
 logy
END:VEVENT
END:VCALENDAR
