BEGIN:VCALENDAR
VERSION:2.0
PRODID:-//hacksw/handcal//NONSGML v1.0//EN
CALSCALE:GREGORIAN
BEGIN:VEVENT
UID:69e7c27b13fb7
DTSTART:20240628T203000Z
DTSTAMP:20260421T183123Z
DTEND:20240705T203000Z
LOCATION:Thessaloniki
DESCRIPTION:Nano Tenchnology Event
URL;VALUE=URI:https://www.nanotexnology.com/
SUMMARY:NANOTEXNOLOGY 2024 Business Forum and Matchmaking Event
END:VEVENT
END:VCALENDAR
