BEGIN:VCALENDAR
VERSION:2.0
PRODID:-//hacksw/handcal//NONSGML v1.0//EN
CALSCALE:GREGORIAN
BEGIN:VEVENT
UID:69e7a7c4010fa
DTSTART:20240630T203000Z
DTSTAMP:20260421T163724Z
DTEND:20240703T203000Z
LOCATION:Thessaloniki
DESCRIPTION:Nano Tenchnology Event
URL;VALUE=URI:https://www.nanotexnology.com/index.php/isfoe
SUMMARY:17th International Symposium on Flexible Organic Electronics 
  (ISFOE24)
END:VEVENT
END:VCALENDAR
