BEGIN:VCALENDAR
VERSION:2.0
PRODID:-//hacksw/handcal//NONSGML v1.0//EN
CALSCALE:GREGORIAN
BEGIN:VEVENT
UID:69e7a781d8b5b
DTSTART:20240701T203000Z
DTSTAMP:20260421T163617Z
DTEND:20240704T203000Z
LOCATION:Thessaloniki
DESCRIPTION:Nano Tenchnology Event
URL;VALUE=URI:https://www.nanotexnology.com/index.php/nn
SUMMARY:21st International Conference on Nanosciences &amp\; Nanotech
 hnologies (NN24)
END:VEVENT
END:VCALENDAR
