BEGIN:VCALENDAR
VERSION:2.0
PRODID:-//hacksw/handcal//NONSGML v1.0//EN
CALSCALE:GREGORIAN
BEGIN:VEVENT
UID:69e7a75db777f
DTSTART:20240702T203000Z
DTSTAMP:20260421T163541Z
DTEND:20240703T203000Z
LOCATION:Thessaloniki
DESCRIPTION:Nano Tenchnology Event
URL;VALUE=URI:https://www.nanotexnology.com/index.php/i3d
SUMMARY:7th International Conference on 3D Printing &amp\; Bioprintin
 ng\, AI\, Digital &amp\; Additive Manufacturing (I3D24)
END:VEVENT
END:VCALENDAR
