BEGIN:VCALENDAR
VERSION:2.0
PRODID:-//hacksw/handcal//NONSGML v1.0//EN
CALSCALE:GREGORIAN
BEGIN:VEVENT
UID:69e7c27ab08d2
DTSTART:20240628T203000Z
DTSTAMP:20260421T183122Z
DTEND:20240705T203000Z
LOCATION:Thessaloniki
DESCRIPTION:Nano Tenchnology Event
URL;VALUE=URI:https://www.nanotexnology.com/index.php/isson
SUMMARY:18th International Summer Schools on Nanosciences &amp\; Nano
 otechnologies\, Organic Electronics &amp\; Nanomedicine (ISSON24)
END:VEVENT
END:VCALENDAR
