BEGIN:VCALENDAR
VERSION:2.0
PRODID:-//hacksw/handcal//NONSGML v1.0//EN
CALSCALE:GREGORIAN
BEGIN:VEVENT
UID:69e7a75f50ff0
DTSTART:20240630T203000Z
DTSTAMP:20260421T163543Z
DTEND:20240704T203000Z
LOCATION:Thessaloniki
DESCRIPTION:Nano Tenchnology Event
URL;VALUE=URI:https://www.nanotexnology.com/index.php/expo
SUMMARY:14th International Exhibition on Nanotechnologies\, Organic E
 Electronics &amp\; Nanomedicine (EXPO24)
END:VEVENT
END:VCALENDAR
