BEGIN:VCALENDAR
VERSION:2.0
PRODID:-//hacksw/handcal//NONSGML v1.0//EN
CALSCALE:GREGORIAN
BEGIN:VEVENT
UID:69e7a782528ce
DTSTART:20240701T203000Z
DTSTAMP:20260421T163618Z
DTEND:20240703T203000Z
LOCATION:Thessaloniki
DESCRIPTION:Nano Tenchnology Event
URL;VALUE=URI:https://www.nanotexnology.com/index.php/about-business-
 -forum
SUMMARY:NANOTEXNOLOGY 2024 Business Forum and Matchmaking Event
END:VEVENT
END:VCALENDAR
