BEGIN:VCALENDAR
VERSION:2.0
PRODID:-//hacksw/handcal//NONSGML v1.0//EN
CALSCALE:GREGORIAN
BEGIN:VEVENT
UID:69e5baf786f2e
DTSTART:20240221T203000Z
DTSTAMP:20260420T053447Z
DTEND:20240222T203000Z
LOCATION:Zurich
DESCRIPTION:Nano Tenchnology Event
URL;VALUE=URI:https://europe.pharmaceuticalconferences.com/symposium.
 .php
SUMMARY:34th Annual European Pharma Congress (Pharma Europe 2024)
END:VEVENT
END:VCALENDAR
